{"text_format":"1","workbook":"xlsx","n_sheets":2,"sheets":["Отчет","Справка"],"not_rendered":{"charts":0,"images":2,"macros":0,"external_links":1,"defined_names":3,"comments":0,"pivot_tables":0},"unopened":[],"bounds":{"document_bytes":16777216,"sheet_cells":100000,"rows_first":2000,"rows_last":500,"rows_between":2000,"halvings":0,"cell_chars":16384,"cell_head_chars":4096},"cells_cut":0,"cells_raw":0,"read":"whole","date_system":"1900"}

{"sheet":"Отчет","index":0,"n_rows":35,"n_cols":14,"rows_kept":35,"cut":false,"hidden":false,"merged":[[16,1,16,5],[22,1,22,5],[15,1,15,5],[1,0,1,7],[2,0,2,7],[11,1,11,5],[12,1,12,5],[14,1,14,5],[13,1,13,5],[21,1,21,5],[23,1,23,5],[18,1,18,5],[17,1,17,5],[19,1,19,5],[20,1,20,5]]}
[]
["ОТЧЕТ ЗА ИЗПЪЛНЕНИЕ НА ДОГОВОРА ПО ЧЛ. 32, АЛ. 2 ОТ НАРЕДБА № 2 от 2011 г. ЗА УСЛОВИЯТА И РЕДА ЗА ИЗВЪРШВАНЕ НА СЪДЕБНОМЕДИЦИНСКИТЕ, СЪДЕБНОПСИХИАТРИЧНИТЕ И СЪДЕБНОПСИХОЛОГИЧНИТЕ ЕКСПЕРТИЗИ, ВКЛЮЧИТЕЛНО И ЗА ЗАПЛАЩАНЕ НА РАЗХОДИТЕ НА ЛЕЧЕБНИТЕ ЗАВЕДЕНИЯ ",null,null,null,null,null,null,null,null,null,1000,"МБАЛ Благоевград АД","101505152","0103211001"]
[{"$f":"VLOOKUP(H4,K2:N39,2,0)","v":{"$error":"#N/A"}},null,null,null,null,null,null,null,null,null,1001,"УМБАЛ – Бургас АД","102274111","0204211001"]
[null,null,null,null,null,null,"Код на ЛЗ ",null,null,null,1002,"УМБАЛ Св. Марина ЕАД","103562052","0306211001"]
[null,null,null,null,null,null,null,null,null,null,1003,"МБАЛ Св. Анна – Варна АД","000090019","0306211002"]
[null,null,null,null,null,null,"Отчетен период","01.01.2024-31.03.2024",null,null,1004,"МБАЛ д-р Ст. Черкезов АД","104510514","0404211001"]
[null,null,null,null,null,null,null,null,null,null,1005,"МБАЛ Св. Петка АД","105515902","0509211001"]
[null,null,null,null,null,null,"ЛЗ ЕИК ",{"$f":"VLOOKUP(H4,K2:N39,3,0)","v":{"$error":"#N/A"}},null,null,1006,"МБАЛ Хр. Ботев АД","106518890","0610211001"]
[null,null,null,null,null,null,null,null,null,null,1007,"МБАЛ д-р Тота Венкова АД","107507217","0705211001"]
[null,null,null,null,null,null,"РЕГ.N",{"$f":"VLOOKUP(H4,K2:N39,4,0)","v":{"$error":"#N/A"}},null,null,1008,"МБАЛ – Добрич АД","124141302","0828211001"]
[null,null,null,null,null,null,null,null,null,null,1009,"МБАЛ д-р Ат. Дафовски АД","108501669","0916211001"]
[null,"Предмет на договора",null,null,null,null,"Брой","Изразходвани средства",null,null,1010,"МБАЛ д-р Н. Василиев АД","109080582","1029211001"]
[1,"Поддържане и подобряване на материално-техническата обезпеченост на структурата по Съдебна медицина",null,null,null,null,null,null,null,null,1011,"МБАЛ проф. П. Стоянов АД","110503990","1118211001"]
[2,"Поддържане и подобряване на капацитета от медицински специалисти и помощен персонал",null,null,null,null,"х",null,null,null,1012,"МБАЛ д-р Ст. Илиев АД","111047073","1229211001"]
[null,"в т.ч. за персонал в структурата",null,null,null,null,"х","х",null,null,1013,"МБАЛ – Пазарджик АД","130072241","1319211001"]
[null,"лекар със специалност Съдебна медицина",null,null,null,null,null,null,null,null,1014,"МБАЛ Рахила Ангелова АД","113513858","1432211001"]
[null,"лекар спциализант",null,null,null,null,null,null,null,null,1015,"УМБАЛ д-р Г. Странски ЕАД","114532352","1524211001"]
[null,"лице с професионална квалификация Химик ",null,null,null,null,null,null,null,null,1016,"УМБАЛ Св. Георги ЕАД","115576405","1622211001"]
[null,"лице с професионална квалификация Биолог или Молекулярен биолог",null,null,null,null,null,null,null,null,1017,"МБАЛ Пловдив АД","115532049","1622211002"]
[null,"лице с професионална квалификация Медицински лаборант ",null,null,null,null,null,null,null,null,1018,"МБАЛ Св. Ив. Рилски АД","116503980","1726211001"]
[null,"лице с професионална квалификация Химик-техник",null,null,null,null,null,null,null,null,1019,"УМБАЛ Канев АД","117505556","1827211001"]
[null,"технически изпълнител/друго лице ",null,null,null,null,null,null,null,null,1020,"МБАЛ Силистра АД","118501906","1931211001"]
[null,"санитар",null,null,null,null,null,null,null,null,1021,"МБАЛ д-р Ив. Селимински АД","119502733","2020211001"]
[3,"Брой извършени аутопсии",null,null,null,null,null,"х",null,null,1022,"МБАЛ д-р Бр. Шукеров АД","120503871","2131211001"]
[null,null,null,null,null,null,null,null,null,null,1023,"УМБАЛ Царица Йоанна – ИСУЛ ЕАД","831605806","2201211002"]
[null,null,null,null,null,null,null,null,null,"01.01.2024-31.03.2024",1024,"УМБАЛСМ Н. И. Пирогов ЕАД","130345786","2201211003"]
[null,null,null,null,null,null,null,null,null,"01.04.2024-30.06.2024",1025,"УМБАЛ Александровска ЕАД","831605795","2201211055"]
[null,null,null,null,null,null,null,null,null,"01.07.2024-30.09.2024",1026,"МБАЛ Лозенец ЕАД","205967328","2201911040"]
[null,null,null,null,null,null,null,null,null,"01.10.2024-31.12.2024",1027,"МБАЛ Св. Анна АД","130367715","2201211001"]
[null,null,null,null,null,null,null,null,null,null,1028,"УМБАЛ проф. Ст. Киркович АД","123535874","2431211002"]
[null,null,null,null,null,null,null,null,null,null,1029,"МБАЛ Търговище АД","125501290","2535211001"]
[null,null,null,null,null,null,null,null,null,null,1030,"МБАЛ Хасково","126529015","2634211001"]
[null,null,null,null,null,null,null,null,null,null,1031,"МБАЛ Шумен АД","127521092","2730211001"]
[null,null,null,null,null,null,null,null,null,null,1032,"МБАЛ Св. Пантелеймон АД","128501598","2826211001"]
[null,null,null,null,null,null,null,null,null,null,1033,"ВМА","129000273","2201911042"]

{"sheet":"Справка","index":1,"n_rows":97,"n_cols":14,"rows_kept":97,"cut":false,"hidden":false,"merged":[[1,2,1,8],[2,2,2,8]]}
[]
[null,null,"Поимена справка за работещите лица в структурата по Съдебна медицина за периода"]
[null,null,{"$f":"Отчет!H6","v":"01.01.2024-31.03.2024"}]
[]
[]
["№ на ЛЗ","отчетен период","№","Име, презиме и фамилия","длъжност в клиника/отделение по Съдебна медицина ","заето щатно място в К/ОСМ","вид на договора","начална дата на договора","дата на прекратяване на договора"]
[null,null,1,2,3,4,5,6,7]
[{"$f":"Отчет!$H$4","v":0},{"$f":"Отчет!$H$6","v":"01.01.2024-31.03.2024"},1,null,null,null,null,null,null,null,null,null,null,"основен"]
[{"$f":"Отчет!$H$4","v":0},{"$f":"Отчет!$H$6","v":"01.01.2024-31.03.2024"},2,null,null,null,null,null,null,null,null,null,null,"допълнителен"]
[{"$f":"Отчет!$H$4","v":0},{"$f":"Отчет!$H$6","v":"01.01.2024-31.03.2024"},3]
[{"$f":"Отчет!$H$4","v":0},{"$f":"Отчет!$H$6","v":"01.01.2024-31.03.2024"},4,null,null,null,null,null,null,null,null,null,null,1]
[{"$f":"Отчет!$H$4","v":0},{"$f":"Отчет!$H$6","v":"01.01.2024-31.03.2024"},5,null,null,null,null,null,null,null,null,null,null,0.75]
[{"$f":"Отчет!$H$4","v":0},{"$f":"Отчет!$H$6","v":"01.01.2024-31.03.2024"},6,null,null,null,null,null,null,null,null,null,null,0.5]
[{"$f":"Отчет!$H$4","v":0},{"$f":"Отчет!$H$6","v":"01.01.2024-31.03.2024"},7,null,null,null,null,null,null,null,null,null,null,0.25]
[{"$f":"Отчет!$H$4","v":0},{"$f":"Отчет!$H$6","v":"01.01.2024-31.03.2024"},8]
[{"$f":"Отчет!$H$4","v":0},{"$f":"Отчет!$H$6","v":"01.01.2024-31.03.2024"},9,null,null,null,null,null,null,null,null,null,null,"Лекар със специалност СМ"]
[{"$f":"Отчет!$H$4","v":0},{"$f":"Отчет!$H$6","v":"01.01.2024-31.03.2024"},10,null,null,null,null,null,null,null,null,null,null,"Лекар специализант"]
[{"$f":"Отчет!$H$4","v":0},{"$f":"Отчет!$H$6","v":"01.01.2024-31.03.2024"},11,null,null,null,null,null,null,null,null,null,null,"Химик"]
[{"$f":"Отчет!$H$4","v":0},{"$f":"Отчет!$H$6","v":"01.01.2024-31.03.2024"},12,null,null,null,null,null,null,null,null,null,null,"Биолог"]
[{"$f":"Отчет!$H$4","v":0},{"$f":"Отчет!$H$6","v":"01.01.2024-31.03.2024"},13,null,null,null,null,null,null,null,null,null,null,"Молекулярен биолог"]
[{"$f":"Отчет!$H$4","v":0},{"$f":"Отчет!$H$6","v":"01.01.2024-31.03.2024"},14,null,null,null,null,null,null,null,null,null,null,"Медицинска сестра"]
[{"$f":"Отчет!$H$4","v":0},{"$f":"Отчет!$H$6","v":"01.01.2024-31.03.2024"},15,null,null,null,null,null,null,null,null,null,null,"Медицински лаборант"]
[{"$f":"Отчет!$H$4","v":0},{"$f":"Отчет!$H$6","v":"01.01.2024-31.03.2024"},16,null,null,null,null,null,null,null,null,null,null,"Химик-техник"]
[{"$f":"Отчет!$H$4","v":0},{"$f":"Отчет!$H$6","v":"01.01.2024-31.03.2024"},17,null,null,null,null,null,null,null,null,null,null,"Фелдшер"]
[{"$f":"Отчет!$H$4","v":0},{"$f":"Отчет!$H$6","v":"01.01.2024-31.03.2024"},18,null,null,null,null,null,null,null,null,null,null,"Санитар"]
[{"$f":"Отчет!$H$4","v":0},{"$f":"Отчет!$H$6","v":"01.01.2024-31.03.2024"},19]
[{"$f":"Отчет!$H$4","v":0},{"$f":"Отчет!$H$6","v":"01.01.2024-31.03.2024"},20]
[{"$f":"Отчет!$H$4","v":0},{"$f":"Отчет!$H$6","v":"01.01.2024-31.03.2024"},21]
[{"$f":"Отчет!$H$4","v":0},{"$f":"Отчет!$H$6","v":"01.01.2024-31.03.2024"},22]
[{"$f":"Отчет!$H$4","v":0},{"$f":"Отчет!$H$6","v":"01.01.2024-31.03.2024"},23]
[{"$f":"Отчет!$H$4","v":0},{"$f":"Отчет!$H$6","v":"01.01.2024-31.03.2024"},24]
[{"$f":"Отчет!$H$4","v":0},{"$f":"Отчет!$H$6","v":"01.01.2024-31.03.2024"},25]
[{"$f":"Отчет!$H$4","v":0},{"$f":"Отчет!$H$6","v":"01.01.2024-31.03.2024"},26]
[{"$f":"Отчет!$H$4","v":0},{"$f":"Отчет!$H$6","v":"01.01.2024-31.03.2024"},27]
[{"$f":"Отчет!$H$4","v":0},{"$f":"Отчет!$H$6","v":"01.01.2024-31.03.2024"},28]
[{"$f":"Отчет!$H$4","v":0},{"$f":"Отчет!$H$6","v":"01.01.2024-31.03.2024"},29]
[{"$f":"Отчет!$H$4","v":0},{"$f":"Отчет!$H$6","v":"01.01.2024-31.03.2024"},30]
[{"$f":"Отчет!$H$4","v":0},{"$f":"Отчет!$H$6","v":"01.01.2024-31.03.2024"},31]
[{"$f":"Отчет!$H$4","v":0},{"$f":"Отчет!$H$6","v":"01.01.2024-31.03.2024"},32]
[{"$f":"Отчет!$H$4","v":0},{"$f":"Отчет!$H$6","v":"01.01.2024-31.03.2024"},33]
[{"$f":"Отчет!$H$4","v":0},{"$f":"Отчет!$H$6","v":"01.01.2024-31.03.2024"},34]
[{"$f":"Отчет!$H$4","v":0},{"$f":"Отчет!$H$6","v":"01.01.2024-31.03.2024"},35]
[{"$f":"Отчет!$H$4","v":0},{"$f":"Отчет!$H$6","v":"01.01.2024-31.03.2024"},36]
[{"$f":"Отчет!$H$4","v":0},{"$f":"Отчет!$H$6","v":"01.01.2024-31.03.2024"},37]
[{"$f":"Отчет!$H$4","v":0},{"$f":"Отчет!$H$6","v":"01.01.2024-31.03.2024"},38]
[{"$f":"Отчет!$H$4","v":0},{"$f":"Отчет!$H$6","v":"01.01.2024-31.03.2024"},39]
[{"$f":"Отчет!$H$4","v":0},{"$f":"Отчет!$H$6","v":"01.01.2024-31.03.2024"},40]
[{"$f":"Отчет!$H$4","v":0},{"$f":"Отчет!$H$6","v":"01.01.2024-31.03.2024"},41]
[{"$f":"Отчет!$H$4","v":0},{"$f":"Отчет!$H$6","v":"01.01.2024-31.03.2024"},42]
[{"$f":"Отчет!$H$4","v":0},{"$f":"Отчет!$H$6","v":"01.01.2024-31.03.2024"},43]
[{"$f":"Отчет!$H$4","v":0},{"$f":"Отчет!$H$6","v":"01.01.2024-31.03.2024"},44]
[{"$f":"Отчет!$H$4","v":0},{"$f":"Отчет!$H$6","v":"01.01.2024-31.03.2024"},45]
[{"$f":"Отчет!$H$4","v":0},{"$f":"Отчет!$H$6","v":"01.01.2024-31.03.2024"},46]
[{"$f":"Отчет!$H$4","v":0},{"$f":"Отчет!$H$6","v":"01.01.2024-31.03.2024"},47]
[{"$f":"Отчет!$H$4","v":0},{"$f":"Отчет!$H$6","v":"01.01.2024-31.03.2024"},48]
[{"$f":"Отчет!$H$4","v":0},{"$f":"Отчет!$H$6","v":"01.01.2024-31.03.2024"},49]
[{"$f":"Отчет!$H$4","v":0},{"$f":"Отчет!$H$6","v":"01.01.2024-31.03.2024"},50]
[{"$f":"Отчет!$H$4","v":0},{"$f":"Отчет!$H$6","v":"01.01.2024-31.03.2024"},51]
[{"$f":"Отчет!$H$4","v":0},{"$f":"Отчет!$H$6","v":"01.01.2024-31.03.2024"},52]
[{"$f":"Отчет!$H$4","v":0},{"$f":"Отчет!$H$6","v":"01.01.2024-31.03.2024"},53]
[{"$f":"Отчет!$H$4","v":0},{"$f":"Отчет!$H$6","v":"01.01.2024-31.03.2024"},54]
[{"$f":"Отчет!$H$4","v":0},{"$f":"Отчет!$H$6","v":"01.01.2024-31.03.2024"},55]
[{"$f":"Отчет!$H$4","v":0},{"$f":"Отчет!$H$6","v":"01.01.2024-31.03.2024"},56]
[{"$f":"Отчет!$H$4","v":0},{"$f":"Отчет!$H$6","v":"01.01.2024-31.03.2024"},57]
[{"$f":"Отчет!$H$4","v":0},{"$f":"Отчет!$H$6","v":"01.01.2024-31.03.2024"},58]
[{"$f":"Отчет!$H$4","v":0},{"$f":"Отчет!$H$6","v":"01.01.2024-31.03.2024"},59]
[{"$f":"Отчет!$H$4","v":0},{"$f":"Отчет!$H$6","v":"01.01.2024-31.03.2024"},60]
[{"$f":"Отчет!$H$4","v":0},{"$f":"Отчет!$H$6","v":"01.01.2024-31.03.2024"},61]
[{"$f":"Отчет!$H$4","v":0},{"$f":"Отчет!$H$6","v":"01.01.2024-31.03.2024"},62]
[{"$f":"Отчет!$H$4","v":0},{"$f":"Отчет!$H$6","v":"01.01.2024-31.03.2024"},63]
[{"$f":"Отчет!$H$4","v":0},{"$f":"Отчет!$H$6","v":"01.01.2024-31.03.2024"},64]
[{"$f":"Отчет!$H$4","v":0},{"$f":"Отчет!$H$6","v":"01.01.2024-31.03.2024"},65]
[{"$f":"Отчет!$H$4","v":0},{"$f":"Отчет!$H$6","v":"01.01.2024-31.03.2024"},66]
[{"$f":"Отчет!$H$4","v":0},{"$f":"Отчет!$H$6","v":"01.01.2024-31.03.2024"},67]
[{"$f":"Отчет!$H$4","v":0},{"$f":"Отчет!$H$6","v":"01.01.2024-31.03.2024"},68]
[{"$f":"Отчет!$H$4","v":0},{"$f":"Отчет!$H$6","v":"01.01.2024-31.03.2024"},69]
[{"$f":"Отчет!$H$4","v":0},{"$f":"Отчет!$H$6","v":"01.01.2024-31.03.2024"},70]
[{"$f":"Отчет!$H$4","v":0},{"$f":"Отчет!$H$6","v":"01.01.2024-31.03.2024"},71]
[{"$f":"Отчет!$H$4","v":0},{"$f":"Отчет!$H$6","v":"01.01.2024-31.03.2024"},72]
[{"$f":"Отчет!$H$4","v":0},{"$f":"Отчет!$H$6","v":"01.01.2024-31.03.2024"},73]
[{"$f":"Отчет!$H$4","v":0},{"$f":"Отчет!$H$6","v":"01.01.2024-31.03.2024"},74]
[{"$f":"Отчет!$H$4","v":0},{"$f":"Отчет!$H$6","v":"01.01.2024-31.03.2024"},75]
[{"$f":"Отчет!$H$4","v":0},{"$f":"Отчет!$H$6","v":"01.01.2024-31.03.2024"},76]
[{"$f":"Отчет!$H$4","v":0},{"$f":"Отчет!$H$6","v":"01.01.2024-31.03.2024"},77]
[{"$f":"Отчет!$H$4","v":0},{"$f":"Отчет!$H$6","v":"01.01.2024-31.03.2024"},78]
[{"$f":"Отчет!$H$4","v":0},{"$f":"Отчет!$H$6","v":"01.01.2024-31.03.2024"},79]
[{"$f":"Отчет!$H$4","v":0},{"$f":"Отчет!$H$6","v":"01.01.2024-31.03.2024"},80]
[{"$f":"Отчет!$H$4","v":0},{"$f":"Отчет!$H$6","v":"01.01.2024-31.03.2024"},81]
[{"$f":"Отчет!$H$4","v":0},{"$f":"Отчет!$H$6","v":"01.01.2024-31.03.2024"},82]
[{"$f":"Отчет!$H$4","v":0},{"$f":"Отчет!$H$6","v":"01.01.2024-31.03.2024"},83]
[{"$f":"Отчет!$H$4","v":0},{"$f":"Отчет!$H$6","v":"01.01.2024-31.03.2024"},84]
[{"$f":"Отчет!$H$4","v":0},{"$f":"Отчет!$H$6","v":"01.01.2024-31.03.2024"},85]
[{"$f":"Отчет!$H$4","v":0},{"$f":"Отчет!$H$6","v":"01.01.2024-31.03.2024"},86]
[{"$f":"Отчет!$H$4","v":0},{"$f":"Отчет!$H$6","v":"01.01.2024-31.03.2024"},87]
[{"$f":"Отчет!$H$4","v":0},{"$f":"Отчет!$H$6","v":"01.01.2024-31.03.2024"},88]
[{"$f":"Отчет!$H$4","v":0},{"$f":"Отчет!$H$6","v":"01.01.2024-31.03.2024"},89]
[{"$f":"Отчет!$H$4","v":0},{"$f":"Отчет!$H$6","v":"01.01.2024-31.03.2024"},90]